BEGIN:VCALENDAR
VERSION:2.0
PRODID:-//England Ice Hockey - ECPv6.15.15//NONSGML v1.0//EN
CALSCALE:GREGORIAN
METHOD:PUBLISH
X-ORIGINAL-URL:https://englandicehockey.com
X-WR-CALDESC:Events for England Ice Hockey
REFRESH-INTERVAL;VALUE=DURATION:PT1H
X-Robots-Tag:noindex
X-PUBLISHED-TTL:PT1H
BEGIN:VTIMEZONE
TZID:Europe/London
BEGIN:DAYLIGHT
TZOFFSETFROM:+0000
TZOFFSETTO:+0100
TZNAME:BST
DTSTART:20250330T010000
END:DAYLIGHT
BEGIN:STANDARD
TZOFFSETFROM:+0100
TZOFFSETTO:+0000
TZNAME:GMT
DTSTART:20251026T010000
END:STANDARD
BEGIN:DAYLIGHT
TZOFFSETFROM:+0000
TZOFFSETTO:+0100
TZNAME:BST
DTSTART:20260329T010000
END:DAYLIGHT
BEGIN:STANDARD
TZOFFSETFROM:+0100
TZOFFSETTO:+0000
TZNAME:GMT
DTSTART:20261025T010000
END:STANDARD
BEGIN:DAYLIGHT
TZOFFSETFROM:+0000
TZOFFSETTO:+0100
TZNAME:BST
DTSTART:20270328T010000
END:DAYLIGHT
BEGIN:STANDARD
TZOFFSETFROM:+0100
TZOFFSETTO:+0000
TZNAME:GMT
DTSTART:20271031T010000
END:STANDARD
END:VTIMEZONE
BEGIN:VEVENT
DTSTART;VALUE=DATE:20260411
DTEND;VALUE=DATE:20260413
DTSTAMP:20260419T142106
CREATED:20260213T120012Z
LAST-MODIFIED:20260324T180856Z
UID:5760-1775865600-1776038399@englandicehockey.com
SUMMARY:Steel City Showdown 2026
DESCRIPTION:Steel City Showdown Returns to IceSheffield – April 11–12\, 2026 \nEarly Bird Tickets On Sale from February 14 \nThe Steel City Showdown is set to return to IceSheffield on Saturday 11th and Sunday 12th April 2026\, bringing a full weekend of high-stakes competition as teams from across the country battle for national titles. \nLast year’s Steel City Showdown saw thrilling games\, fans up-close to the action and a brilliant weekend enjoyed by all. And this year is expected to be even bigger and better. \nTickets go on sale Saturday 14th February\, with Early Bird prices available until 23:59 on Friday 20th March 2026. The Early Bird window has been extended to allow a longer opportunity for discounted tickets. Standard pricing will begin from 00:00 on Saturday 21st March 2026. \n🎟 Tickets available at:\n👉 https://eih.ticketco.events/uk/en/e/steel_city_showdown_2026 \n  \nTicket Prices \nEarly Bird Prices (14 Feb – 20 Mar) \n\nAdult: £57\nConcession: £38\nFamily*: £168\n\nStandard Prices (From 21 Mar) \n\nAdult: £63\nConcession: £42\nFamily*: £179\n\n*Family ticket consists of 2 Adults & 2 Concessions \n  \nConcession Information \nA concession ticket is valid for anyone over 65\, under 16\, and those who can provide any of the following evidence: \n\nFront page of DLA/PIP\nBlue Badge\nEvidence of being registered severely sight impaired\nRecognised Assistance Dog ID card\nBlue Light Card holders\nDefence Discount Service card holders\nAccess Card\nOfficial medical/doctor’s letter\nStudent College ID Card and/or Student NUS Card\n\n  \n Weekend Fixtures \n Saturday 11th April 2026 \n\nLaidler Final – 10:15\nWilkinson Final – 13:15\nMoralee Final – 16:15\nBritton Final – 19:15\n\nSunday 12th April 2026 \n\nNational Champions Division 2 Final – 13:00\nNational Champions Division 1 Final – 16:30\n\n  \nGroup Bookings \nDiscounted rates for group parties of 10 or more people are available. To arrange a group booking\, please contact our Events Team via email at eih.events@englandicehockey.com. \nWith an exciting schedule and championship titles on the line\, the Steel City Showdown promises an unforgettable weekend for fans\, families\, and newcomers alike. Supporters are encouraged to book early to secure their seats and take advantage of discounted Early Bird pricing. \n🎫 Book now: https://eih.ticketco.events/uk/en/e/steel_city_showdown_2026 \n 
URL:https://englandicehockey.com/event/steel-city-showdown-2026/
LOCATION:IceSheffield – Bauer Arena\, Coleridge Road\, Sheffield\, S9 5DA\, United Kingdom
CATEGORIES:England Ice Hockey,NIHL
ATTACH;FMTTYPE=image/png:https://englandicehockey.com/wp-content/uploads/2026/02/Steel-City-Web-e1773871476202.png
END:VEVENT
END:VCALENDAR