BEGIN:VCALENDAR
VERSION:2.0
PRODID:-//England Ice Hockey - ECPv6.15.15//NONSGML v1.0//EN
CALSCALE:GREGORIAN
METHOD:PUBLISH
X-ORIGINAL-URL:https://englandicehockey.com
X-WR-CALDESC:Events for England Ice Hockey
REFRESH-INTERVAL;VALUE=DURATION:PT1H
X-Robots-Tag:noindex
X-PUBLISHED-TTL:PT1H
BEGIN:VTIMEZONE
TZID:Europe/London
BEGIN:DAYLIGHT
TZOFFSETFROM:+0000
TZOFFSETTO:+0100
TZNAME:BST
DTSTART:20250330T010000
END:DAYLIGHT
BEGIN:STANDARD
TZOFFSETFROM:+0100
TZOFFSETTO:+0000
TZNAME:GMT
DTSTART:20251026T010000
END:STANDARD
BEGIN:DAYLIGHT
TZOFFSETFROM:+0000
TZOFFSETTO:+0100
TZNAME:BST
DTSTART:20260329T010000
END:DAYLIGHT
BEGIN:STANDARD
TZOFFSETFROM:+0100
TZOFFSETTO:+0000
TZNAME:GMT
DTSTART:20261025T010000
END:STANDARD
BEGIN:DAYLIGHT
TZOFFSETFROM:+0000
TZOFFSETTO:+0100
TZNAME:BST
DTSTART:20270328T010000
END:DAYLIGHT
BEGIN:STANDARD
TZOFFSETFROM:+0100
TZOFFSETTO:+0000
TZNAME:GMT
DTSTART:20271031T010000
END:STANDARD
END:VTIMEZONE
BEGIN:VEVENT
DTSTART;VALUE=DATE:20260430
DTEND;VALUE=DATE:20260501
DTSTAMP:20260423T133749
CREATED:20251218T171342Z
LAST-MODIFIED:20251218T171436Z
UID:6062-1777507200-1777593599@englandicehockey.com
SUMMARY:Great Britain v Italy - Men's Exhibition Game
DESCRIPTION:
URL:https://englandicehockey.com/event/great-britain-v-italy-mens-exhibition-game/
LOCATION:Planet Ice Milton Keynes\, 1 S Row\, Milton Keynes\, MK9 1DL\, United Kingdom
CATEGORIES:Men's GB
ATTACH;FMTTYPE=image/png:https://englandicehockey.com/wp-content/uploads/2025/12/INTERNATIONAL-DEVELOPMENT-3.png
END:VEVENT
BEGIN:VEVENT
DTSTART;VALUE=DATE:20260502
DTEND;VALUE=DATE:20260503
DTSTAMP:20260423T133749
CREATED:20251218T171523Z
LAST-MODIFIED:20251218T171523Z
UID:6066-1777680000-1777766399@englandicehockey.com
SUMMARY:Great Britain v Italy - Men's Exhibition Game
DESCRIPTION:
URL:https://englandicehockey.com/event/great-britain-v-italy-mens-exhibition-game-2/
LOCATION:Motorpoint Arena Nottingham
CATEGORIES:Men's GB
ATTACH;FMTTYPE=image/png:https://englandicehockey.com/wp-content/uploads/2025/12/INTERNATIONAL-DEVELOPMENT-3.png
END:VEVENT
BEGIN:VEVENT
DTSTART;VALUE=DATE:20260515
DTEND;VALUE=DATE:20260601
DTSTAMP:20260423T133749
CREATED:20251119T114053Z
LAST-MODIFIED:20251119T160537Z
UID:5833-1778803200-1780271999@englandicehockey.com
SUMMARY:2026 IIHF Ice Hockey World Championship\, Group A
DESCRIPTION:Game Schedule is available online – click here\nTicket are available online – click here\nTEAMS\nGroup A \n\nUnited States\nSwitzerland\nFinland\nGermany\nLatvia\nAustria\nHungary\nGreat Britain\n\n  \nGroup B \n\nCanada\nSweden\nCzechia\nDenmark\nSlovakia\nNorway\nSlovenia\nItaly\n\n  \n 
URL:https://englandicehockey.com/event/2026-iihf-ice-hockey-world-championship-group-a/
LOCATION:SWITZERLAND\, Zurich\, Fribourg\, Zurich\, Fribourg\, Switzerland
CATEGORIES:Men's Worlds
ATTACH;FMTTYPE=image/png:https://englandicehockey.com/wp-content/uploads/2025/11/Untitled-design.zip-3.png
ORGANIZER;CN="IIHF":MAILTO:office@iihf.com
END:VEVENT
BEGIN:VEVENT
DTSTART;VALUE=DATE:20260516
DTEND;VALUE=DATE:20260518
DTSTAMP:20260423T133749
CREATED:20251119T095830Z
LAST-MODIFIED:20251119T155152Z
UID:5801-1778889600-1779062399@englandicehockey.com
SUMMARY:U12 & U14 Junior Nationals 2026
DESCRIPTION:
URL:https://englandicehockey.com/event/u12-u14-junior-nationals-2026/
LOCATION:IceSheffield – Bauer Arena\, Coleridge Road\, Sheffield\, S9 5DA\, United Kingdom
CATEGORIES:England Ice Hockey,Juniors
ATTACH;FMTTYPE=image/png:https://englandicehockey.com/wp-content/uploads/2025/11/Untitled-design.zip-5.png
END:VEVENT
BEGIN:VEVENT
DTSTART;VALUE=DATE:20260523
DTEND;VALUE=DATE:20260526
DTSTAMP:20260423T133749
CREATED:20251119T101628Z
LAST-MODIFIED:20251119T155211Z
UID:5805-1779494400-1779753599@englandicehockey.com
SUMMARY:WNIHL Finals Weekend 2026
DESCRIPTION:
URL:https://englandicehockey.com/event/wnihl-finals-weekend-2026/
LOCATION:IceSheffield – Bauer Arena\, Coleridge Road\, Sheffield\, S9 5DA\, United Kingdom
CATEGORIES:England Ice Hockey,WNIHL
ATTACH;FMTTYPE=image/png:https://englandicehockey.com/wp-content/uploads/2025/11/Untitled-design.zip-7.png
END:VEVENT
BEGIN:VEVENT
DTSTART;VALUE=DATE:20260530
DTEND;VALUE=DATE:20260601
DTSTAMP:20260423T133749
CREATED:20251119T100529Z
LAST-MODIFIED:20251119T155240Z
UID:5803-1780099200-1780271999@englandicehockey.com
SUMMARY:U16 & U19 Junior Nationals 2026
DESCRIPTION:
URL:https://englandicehockey.com/event/u16-u19-junior-nationals-2026/
LOCATION:IceSheffield – Bauer Arena\, Coleridge Road\, Sheffield\, S9 5DA\, United Kingdom
CATEGORIES:England Ice Hockey,Juniors
ATTACH;FMTTYPE=image/png:https://englandicehockey.com/wp-content/uploads/2025/11/Untitled-design.zip-5.png
END:VEVENT
END:VCALENDAR